BEGIN:VCALENDAR
PRODID:-//eluceo/ical//2.0/EN
VERSION:2.0
CALSCALE:GREGORIAN
BEGIN:VEVENT
UID:317b423c9e0b47e41624edacd9760a34
DTSTAMP:20260421T120900Z
SUMMARY:Balu-Treff
DESCRIPTION:Webseite: http://www.baluvaduz.li
URL:https://liechtenstein.rotary2000.ch/de/agenda/show/201875
DTSTART;TZID=Europe/Zurich:20250904T073000
DTEND;TZID=Europe/Zurich:20250904T073000
LOCATION:Balu Bäckerei Konditorei\, Städtle 17\, 9490 Vaduz\, Liechtenste
 in
CATEGORIES:Rotary
END:VEVENT
BEGIN:VTIMEZONE
TZID:Europe/Zurich
BEGIN:DAYLIGHT
DTSTART:20250904T073000
TZNAME:CEST
TZOFFSETTO:+0200
TZOFFSETFROM:+0200
END:DAYLIGHT
END:VTIMEZONE
END:VCALENDAR
