BEGIN:VCALENDAR
PRODID:-//eluceo/ical//2.0/EN
VERSION:2.0
CALSCALE:GREGORIAN
BEGIN:VEVENT
UID:b23d48dbc1b28d9d0dfed31e3df8e8bf
DTSTAMP:20260421T102840Z
SUMMARY:Gipfel-Treffen bei Peter Demmel
DESCRIPTION:Webseite: https://www.demmel.li
URL:https://liechtenstein.rotary2000.ch/de/agenda/show/208184
DTSTART;TZID=Europe/Zurich:20260219T070000
DTEND;TZID=Europe/Zurich:20260219T070000
LOCATION:Kaffeeösterei Demmel\, Landstrasse 85\, 9494 Schaan
CATEGORIES:Rotary
END:VEVENT
BEGIN:VTIMEZONE
TZID:Europe/Zurich
BEGIN:STANDARD
DTSTART:20260219T070000
TZNAME:CET
TZOFFSETTO:+0100
TZOFFSETFROM:+0100
END:STANDARD
END:VTIMEZONE
END:VCALENDAR
