BEGIN:VCALENDAR
PRODID:-//eluceo/ical//2.0/EN
VERSION:2.0
CALSCALE:GREGORIAN
BEGIN:VEVENT
UID:5ce85d51af326b7adf35f5c022db4411
DTSTAMP:20260424T104128Z
SUMMARY:Vortragsmeeting: Dr. Beat Villiger - ​​Länger gesund und glüc
 klich leben? Es ist so einfach!... oder vielleicht doch nicht?
DESCRIPTION:Website: http://www.hotel-loewen.li\nSpeaker(s): Dr. Beat Villi
 ger
URL:https://liechtenstein.rotary2000.ch/en/agenda/show/208055
DTSTART;TZID=Europe/Zurich:20260120T121500
DTEND;TZID=Europe/Zurich:20260120T133000
LOCATION:Hotel Gasthof Löwen\, Herrengasse 35\, FL-9490 Vaduz
CATEGORIES:Rotary
END:VEVENT
BEGIN:VTIMEZONE
TZID:Europe/Zurich
BEGIN:STANDARD
DTSTART:20260120T121500
TZNAME:CET
TZOFFSETTO:+0100
TZOFFSETFROM:+0100
END:STANDARD
END:VTIMEZONE
END:VCALENDAR
