BEGIN:VCALENDAR
PRODID:-//eluceo/ical//2.0/EN
VERSION:2.0
CALSCALE:GREGORIAN
BEGIN:VEVENT
UID:7ba6912bd713f5bbc0508580291e2131
DTSTAMP:20260421T112718Z
SUMMARY:"Geschichte im Löwen" - Gert Risch
DESCRIPTION:Website: http://www.hotel-loewen.li\nSpeaker(s): Gert Risch
URL:https://liechtenstein.rotary2000.ch/en/agenda/show/212258
DTSTART;TZID=Europe/Zurich:20260630T121500
DTEND;TZID=Europe/Zurich:20260630T134500
LOCATION:Hotel Gasthof Löwen\, Herrengasse 35\, FL-9490 Vaduz
CATEGORIES:Rotary
END:VEVENT
BEGIN:VTIMEZONE
TZID:Europe/Zurich
BEGIN:DAYLIGHT
DTSTART:20260630T121500
TZNAME:CEST
TZOFFSETTO:+0200
TZOFFSETFROM:+0200
END:DAYLIGHT
END:VTIMEZONE
END:VCALENDAR
