BEGIN:VCALENDAR
PRODID:-//eluceo/ical//2.0/EN
VERSION:2.0
CALSCALE:GREGORIAN
BEGIN:VEVENT
UID:fd28d61d036015b11c85c28c2fe070fa
DTSTAMP:20260421T112109Z
SUMMARY:Gipfel-Treffen bei Peter Demmel
DESCRIPTION:Vefsíða: https://www.demmel.li
URL:https://liechtenstein.rotary2000.ch/is/agenda/show/210380
DTSTART;TZID=Europe/Zurich:20260416T070000
DTEND;TZID=Europe/Zurich:20260416T080000
LOCATION:Kaffeeösterei Demmel\, Landstrasse 85\, 9494 Schaan
CATEGORIES:Rotary
END:VEVENT
BEGIN:VTIMEZONE
TZID:Europe/Zurich
BEGIN:DAYLIGHT
DTSTART:20260416T070000
TZNAME:CEST
TZOFFSETTO:+0200
TZOFFSETFROM:+0200
END:DAYLIGHT
END:VTIMEZONE
END:VCALENDAR
