BEGIN:VCALENDAR
PRODID:-//eluceo/ical//2.0/EN
VERSION:2.0
CALSCALE:GREGORIAN
BEGIN:VEVENT
UID:eb7f0ac1430b343483b5277f0ad46148
DTSTAMP:20260419T172542Z
SUMMARY:"Geschichte im Löwen" - Remo Hediger
DESCRIPTION:Vefsíða: http://www.hotel-loewen.li\nFyrirlesari(ar): Remo He
 diger
URL:https://liechtenstein.rotary2000.ch/is/agenda/show/210401
DTSTART;TZID=Europe/Zurich:20260421T121500
DTEND;TZID=Europe/Zurich:20260421T134500
LOCATION:Hotel Gasthof Löwen\, Herrengasse 35\, FL-9490 Vaduz
CATEGORIES:Rotary
END:VEVENT
BEGIN:VTIMEZONE
TZID:Europe/Zurich
BEGIN:DAYLIGHT
DTSTART:20260421T121500
TZNAME:CEST
TZOFFSETTO:+0200
TZOFFSETFROM:+0200
END:DAYLIGHT
END:VTIMEZONE
END:VCALENDAR
