BEGIN:VCALENDAR
PRODID:-//eluceo/ical//2.0/EN
VERSION:2.0
CALSCALE:GREGORIAN
BEGIN:VEVENT
UID:9ef1c6895ef6cd2ca6d9cebbb57ea893
DTSTAMP:20260423T101638Z
SUMMARY:Vortragsmeeting: "Wie und warum lacht der Mensch?"
DESCRIPTION:Sito web: http://www.hotel-loewen.li\nRelatore/i: Rot. Prof. Dr
 . Jürg KesselringLachen gehört zu den ursprünglichsten und universellst
 en Kommunikationsformen des Menschen. Meist tritt es als spontane Reaktion
  auf heitere oder komische Situationen auf. Doch ebenso kann es ein Ventil
  nach überstandenen Gefahren sein oder eine drohende soziale Spannung ent
 schärfen. Als Ausdruck von Sympathie und gegenseitigem Einverständnis en
 tfaltet das Lachen eine besänftigende und verbindende Kraft – es wirkt 
 wie ein sozialer Kitt.Gleichzeitig hat es aber auch eine ambivalente Seite
 : Während es innerhalb einer Gruppe das Gemeinschaftsgefühl stärkt\, ka
 nn es gegenüber Aussenstehenden in Form des „Auslachens“ verletzend u
 nd demütigend wirken – bis hin zu einer Waffe\, die die Würde des Gege
 nübers infrage stellt.Mit diesem spannenden Thema eröffnet sich die Vort
 ragsreihe «Medizin – Stimmen aus der Praxis» im Rotary-Jahr 2025/26.
URL:https://liechtenstein.rotary2000.ch/it/agenda/show/201869
DTSTART;TZID=Europe/Zurich:20250902T121500
DTEND;TZID=Europe/Zurich:20250902T134500
LOCATION:Hotel Gasthof Löwen\, Herrengasse 35\, FL-9490 Vaduz
CATEGORIES:Rotary
END:VEVENT
BEGIN:VTIMEZONE
TZID:Europe/Zurich
BEGIN:DAYLIGHT
DTSTART:20250902T121500
TZNAME:CEST
TZOFFSETTO:+0200
TZOFFSETFROM:+0200
END:DAYLIGHT
END:VTIMEZONE
END:VCALENDAR
