BEGIN:VCALENDAR
PRODID:-//eluceo/ical//2.0/EN
VERSION:2.0
CALSCALE:GREGORIAN
BEGIN:VEVENT
UID:c29152950ba04cadad4ae184871a1d3f
DTSTAMP:20260419T195437Z
SUMMARY:Begegnungslunch
DESCRIPTION:Sito web: http://www.hotel-loewen.li
URL:https://liechtenstein.rotary2000.ch/it/agenda/show/203932
DTSTART;TZID=Europe/Zurich:20251014T121500
DTEND;TZID=Europe/Zurich:20251014T133000
LOCATION:Hotel Gasthof Löwen\, Herrengasse 35\, FL-9490 Vaduz
CATEGORIES:Rotary
END:VEVENT
BEGIN:VTIMEZONE
TZID:Europe/Zurich
BEGIN:DAYLIGHT
DTSTART:20251014T121500
TZNAME:CEST
TZOFFSETTO:+0200
TZOFFSETFROM:+0200
END:DAYLIGHT
END:VTIMEZONE
END:VCALENDAR
