BEGIN:VCALENDAR
PRODID:-//eluceo/ical//2.0/EN
VERSION:2.0
CALSCALE:GREGORIAN
BEGIN:VEVENT
UID:d10175818ce6b4c965df5cdea76af814
DTSTAMP:20260422T163004Z
SUMMARY:Gipfel-Treffen bei Peter Demmel
DESCRIPTION:Website: http://www.demmel.li
URL:https://liechtenstein.rotary2000.ch/nl/agenda/show/203930
DTSTART;TZID=Europe/Zurich:20251120T070000
DTEND;TZID=Europe/Zurich:20251120T080000
LOCATION:Kaffeerösterei Demmel\, Landstrasse 85\, 9494 Schaan
CATEGORIES:Rotary
END:VEVENT
BEGIN:VTIMEZONE
TZID:Europe/Zurich
BEGIN:STANDARD
DTSTART:20251120T070000
TZNAME:CET
TZOFFSETTO:+0100
TZOFFSETFROM:+0100
END:STANDARD
END:VTIMEZONE
END:VCALENDAR
