BEGIN:VCALENDAR
PRODID:-//eluceo/ical//2.0/EN
VERSION:2.0
CALSCALE:GREGORIAN
BEGIN:VEVENT
UID:937f1ef60299b553988300aa6138c53a
DTSTAMP:20260422T145322Z
SUMMARY:Besuch von District Gouverneurin Andrea Weber am 11.11.2025
DESCRIPTION:Website: http://www.hotel-loewen.li\nSprekers: Gouverneurin And
 rea Weber
URL:https://liechtenstein.rotary2000.ch/nl/agenda/show/204924
DTSTART;TZID=Europe/Zurich:20251111T121500
DTEND;TZID=Europe/Zurich:20251111T134500
LOCATION:Hotel Gasthof Löwen\, Herrengasse 35\, FL-9490 Vaduz
CATEGORIES:Rotary
END:VEVENT
BEGIN:VTIMEZONE
TZID:Europe/Zurich
BEGIN:STANDARD
DTSTART:20251111T121500
TZNAME:CET
TZOFFSETTO:+0100
TZOFFSETFROM:+0100
END:STANDARD
END:VTIMEZONE
END:VCALENDAR
