BEGIN:VCALENDAR
PRODID:-//eluceo/ical//2.0/EN
VERSION:2.0
CALSCALE:GREGORIAN
BEGIN:VEVENT
UID:d80e88e184ab8976730b36c31817cbaf
DTSTAMP:20260422T145409Z
SUMMARY:Vortragsmeeting: Tinnitus und Hyperakusis – wenn Hören zum Probl
 em wird
DESCRIPTION:Website: http://www.hotel-loewen.li\nSprekers: Rot. PD Dr. Dr.h
 .c. Andreas Schapowal
URL:https://liechtenstein.rotary2000.ch/nl/agenda/show/204930
DTSTART;TZID=Europe/Zurich:20251125T121500
DTEND;TZID=Europe/Zurich:20251125T134500
LOCATION:Hotel Gasthof Löwen\, Herrengasse 35\, FL-9490 Vaduz
CATEGORIES:Rotary
END:VEVENT
BEGIN:VTIMEZONE
TZID:Europe/Zurich
BEGIN:STANDARD
DTSTART:20251125T121500
TZNAME:CET
TZOFFSETTO:+0100
TZOFFSETFROM:+0100
END:STANDARD
END:VTIMEZONE
END:VCALENDAR
