BEGIN:VCALENDAR
PRODID:-//eluceo/ical//2.0/EN
VERSION:2.0
CALSCALE:GREGORIAN
BEGIN:VEVENT
UID:ec19b0e35df9da26e7be2d5c043e0a57
DTSTAMP:20260419T173304Z
SUMMARY:"Geschichte im Löwen" - Philipp Eigenmann
DESCRIPTION:Website: http://www.hotel-loewen.li\nSprekers: Philipp Eigenman
 n
URL:https://liechtenstein.rotary2000.ch/nl/agenda/show/210402
DTSTART;TZID=Europe/Zurich:20260609T121500
DTEND;TZID=Europe/Zurich:20260609T134500
LOCATION:Hotel Gasthof Löwen\, Herrengasse 35\, FL-9490 Vaduz
CATEGORIES:Rotary
END:VEVENT
BEGIN:VTIMEZONE
TZID:Europe/Zurich
BEGIN:DAYLIGHT
DTSTART:20260609T121500
TZNAME:CEST
TZOFFSETTO:+0200
TZOFFSETFROM:+0200
END:DAYLIGHT
END:VTIMEZONE
END:VCALENDAR
